{"text_format":"1","workbook":"xlsx","n_sheets":1,"sheets":["extras 1"],"not_rendered":{"charts":0,"images":1,"macros":1,"external_links":0,"defined_names":3,"comments":0,"pivot_tables":0},"unopened":[],"bounds":{"document_bytes":16777216,"sheet_cells":100000,"rows_first":2000,"rows_last":500,"rows_between":2000,"halvings":0,"cell_chars":16384,"cell_head_chars":4096},"cells_cut":0,"cells_raw":0,"read":"whole","date_system":"1900"}

{"sheet":"extras 1","index":0,"n_rows":38,"n_cols":30,"rows_kept":38,"cut":false,"hidden":false,"merged":[[37,0,37,5],[37,12,37,17],[31,0,31,2],[34,0,34,1],[33,0,33,3],[28,0,28,4],[31,6,31,17],[34,15,34,17],[33,4,33,5],[29,0,29,17],[35,0,35,17],[36,11,36,17],[36,6,36,10],[36,0,36,5],[32,6,32,17],[30,0,30,17],[34,4,34,5],[24,0,24,1],[25,0,25,1],[26,0,26,1],[21,0,21,1],[22,0,22,1],[26,3,26,4],[27,3,27,4],[25,3,25,4],[23,12,23,15],[24,12,24,15],[25,12,25,15],[23,0,23,1],[25,6,25,11],[27,12,27,15],[27,6,27,11],[26,12,26,15],[27,0,27,2],[22,12,22,15],[16,0,16,1],[15,0,15,1],[19,0,19,1],[12,0,14,1],[12,2,14,2],[16,16,16,17],[17,16,17,17],[18,16,18,17],[19,16,19,17],[14,3,14,4],[15,3,15,4],[15,12,15,15],[16,12,16,15],[17,12,17,15],[18,12,18,15],[19,12,19,15],[14,16,14,17],[18,0,18,1],[0,0,1,5],[0,6,0,17],[1,6,1,17],[8,6,13,17],[8,0,8,5],[9,0,9,5],[10,0,10,5],[11,0,11,5],[12,3,13,5],[3,16,3,17],[4,16,4,17],[2,0,2,5],[2,10,2,12],[2,13,2,15],[4,0,4,5],[5,0,5,2],[5,3,5,5],[2,6,2,8],[4,6,4,9],[3,6,3,9],[6,10,6,11],[6,6,6,7],[3,10,3,15],[5,6,5,17],[14,6,14,11],[14,12,14,15],[15,6,15,11],[20,16,20,17],[25,16,25,17],[26,16,26,17],[21,16,21,17],[22,16,22,17],[23,16,23,17],[24,16,24,17],[15,16,15,17],[26,6,26,11],[20,12,20,15],[21,12,21,15],[22,6,22,11],[23,6,23,11],[24,6,24,11],[16,6,16,11],[17,6,17,11],[18,6,18,11],[19,6,19,11],[20,6,20,11],[3,0,3,5],[6,14,6,15],[27,16,27,17],[4,10,4,15],[34,6,34,8],[34,9,34,12],[32,0,32,5],[28,5,28,12],[28,13,28,14],[28,15,28,17],[20,0,20,1],[6,0,6,1],[20,3,20,4],[21,3,21,4],[22,3,22,4],[23,3,23,4],[24,3,24,4],[16,3,16,4],[17,3,17,4],[18,3,18,4],[19,3,19,4],[21,6,21,11],[6,2,6,5],[17,0,17,1]]}
["   Universidad Estatal a Distancia                                                                                                                                                                                                                                                                                                                                                                                                                                                                                            Oficina de Recursos Humanos                                                                                                        Unidad de Planillas                                                                                ",null,null,null,null,null,"Informe de Ejecución de Tiempo Extraordinario"]
[null,null,null,null,null,null,"FUNED ORH 02.00.02"]
[null,null,null,null,null,null,"Día",null,null,null,"Mes:",null,null,null,null,null,"Año:"]
["Nombre persona funcionaria:                                                                                                                                             ",null,null,null,null,null,"Programa:",null,null,null,"Subprograma:                      ",null,null,null,null,null,"Actividad: ",null,null,"11 de abril",null,"2019-04-11"]
[null,null,null,null,null,null,null,null,null,null,null,null,null,null,null,null,null,null,null,"Jueves santo",null,"2019-04-18",null,null,null,null,null,null,null,{"$f":"DATE(2021,4,23)","v":"2021-04-23"}]
["Número de cédula:       ",null,null,null,null,null,"Jornada ( marque con una X, según corresponda)",null,null,null,null,null,null,null,null,null,null,null,null,"viernes santo",null,"2019-04-19"]
["Puesto ",null," ",null,null,null,"(",null,null,") Diurna","(",null,null,")  Nocturna","(",null,null,")  Mixta",null,"01 de mayo",null,"2019-05-01"]
[null,null,null,null,null,null,null,null,null,null,null,null,null,null,null,null,null,null,null,"25 de julio",null,"2019-07-25"]
["Uso de la Persona Funcionaria",null,null,null,null,null,"Uso exclusivo de la Unidad de Plantillas"]
["Nota:Llenar la casilla \"Día\" utilizando la siguiente nomenclatura",null,null,null,null,null,null,null,null,null,null,null,null,null,null,null,null,null,null,"02 de agosto",null,"2019-08-02"]
["L: lunes/ K: martes /M: miércoles /J: jueves ",null,null,null,null,null,null,null,null,null,null,null,null,null,null,null,null,null,null,"15 de agosto",null,"2019-08-15"]
[" V: viernes /S: sábado /D: domingo"]
["Día",null,"Fecha","Tiempo laborado en horas extras   (especifique: am/pm)"]
[]
[null,null,null,"De",null,"A ","Tiempo Sencillo",null,null,null,null,null,"Tiempo y medio",null,null,null,"Tiempo doble",null,{"$f":"+TEXT(C16,\"DDDD\")","v":"sábado"},"Diminutivo","1er Dia Libre","2do dia Libre","Hora entrada","Hora Salida","Calulo mayor a 12h","Calculo menor a 12h"]
[{"$f":"IF(T16=\"ma\",\"K\",\"\")&+IF(T16=\"lu\",\"L\",\"\")&+IF(T16=\"mi\",\"M\",\"\")&+IF(T16=\"ju\",\"J\",\"\")&+IF(T16=\"vi\",\"V\",\"\")&+IF(T16=\"sá\",\"S\",\"\")&+IF(T16=\"do\",\"D\",\"\")","v":""},null,null,null,null,null,null,null,null,null,null,null,null,null,null,null,null,null,"sábado",{"$f":"IF(C16=0/1/1900,\" \",LEFT(S15,2))","v":" "},{"$f":"VLOOKUP(#REF!,#REF!,6,FALSE)","v":{"$error":"#REF!"}},{"$f":"VLOOKUP(#REF!,#REF!,7,FALSE)","v":{"$error":"#REF!"}},"08:00:00","00:00:00",{"$f":"IF(OR(A16=V16,C16=#REF!,C16=$V$4,C16=$V$5,C16=$V$6,C16=$V$8,C16=$V$10,C16=$V$11,C16=#REF!,C16=#REF!,C16=#REF!),E16-D16,X16)","v":{"$error":"#REF!"}},{"$f":"IF(Y16>W16,\"\",E16-D16)","v":{"$error":"#REF!"}}]
[{"$f":"IF(T17=\"ma\",\"K\",\"\")&+IF(T17=\"lu\",\"L\",\"\")&+IF(T17=\"mi\",\"M\",\"\")&+IF(T17=\"ju\",\"J\",\"\")&+IF(T17=\"vi\",\"V\",\"\")&+IF(T17=\"sá\",\"S\",\"\")&+IF(T17=\"do\",\"D\",\"\")","v":""},null,null,null,null,null,null,null,null,null,null,null,null,null,null,null,null,null,"sábado"," ",{"$f":"VLOOKUP(#REF!,#REF!,6,FALSE)","v":{"$error":"#REF!"}},{"$f":"VLOOKUP(#REF!,#REF!,7,FALSE)","v":{"$error":"#REF!"}},"08:00:00","00:00:00",{"$f":"IF(B17=V17,E17-D17,X17)","v":{"$error":"#REF!"}},{"$error":"#REF!"}]
["",null,null,null,null,null,null,null,null,null,null,null,null,null,null,null,null,null,"sábado"," ",{"$f":"VLOOKUP(#REF!,#REF!,6,FALSE)","v":{"$error":"#REF!"}},{"$f":"VLOOKUP(#REF!,#REF!,7,FALSE)","v":{"$error":"#REF!"}},"08:00:00","00:00:00",{"$error":"#REF!"},{"$error":"#REF!"}]
["",null,null,null,null,null,null,null,null,null,null,null,null,null,null,null,null,null,"sábado"," ",{"$f":"VLOOKUP(#REF!,#REF!,6,FALSE)","v":{"$error":"#REF!"}},{"$f":"VLOOKUP(#REF!,#REF!,7,FALSE)","v":{"$error":"#REF!"}},"08:00:00","00:00:00",{"$error":"#REF!"},{"$error":"#REF!"}]
["",null,null,null,null,null,null,null,null,null,null,null,null,null,null,null,null,null,"sábado"," ",{"$f":"VLOOKUP(#REF!,#REF!,6,FALSE)","v":{"$error":"#REF!"}},{"$f":"VLOOKUP(#REF!,#REF!,7,FALSE)","v":{"$error":"#REF!"}},"08:00:00","00:00:00",{"$error":"#REF!"},{"$error":"#REF!"}]
["",null,null,null,null,null,null,null,null,null,null,null,null,null,null,null,null,null,{"$f":"+TEXT(#REF!,\"DDDD\")","v":{"$error":"#REF!"}}," ",{"$f":"VLOOKUP(#REF!,#REF!,6,FALSE)","v":{"$error":"#REF!"}},{"$f":"VLOOKUP(#REF!,#REF!,7,FALSE)","v":{"$error":"#REF!"}},"08:00:00","00:00:00",{"$error":"#REF!"},{"$error":"#REF!"}]
["",null,null,null,null,null,null,null,null,null,null,null,null,null,null,null,null,null,"sábado",{"$f":"IF(C22=0/1/1900,\" \",LEFT(#REF!,2))","v":" "},{"$f":"VLOOKUP(#REF!,#REF!,6,FALSE)","v":{"$error":"#REF!"}},{"$f":"VLOOKUP(#REF!,#REF!,7,FALSE)","v":{"$error":"#REF!"}},"08:00:00","00:00:00",{"$error":"#REF!"},{"$error":"#REF!"}]
["",null,null,null,null,null,null,null,null,null,null,null,null,null,null,null,null,null,"sábado"," ",{"$f":"VLOOKUP(#REF!,#REF!,6,FALSE)","v":{"$error":"#REF!"}},{"$f":"VLOOKUP(#REF!,#REF!,7,FALSE)","v":{"$error":"#REF!"}},"08:00:00","00:00:00",{"$error":"#REF!"},{"$error":"#REF!"}]
["",null,null,null,null,null,null,null,null,null,null,null,null,null,null,null,null,null,"sábado"," ",{"$f":"VLOOKUP(#REF!,#REF!,6,FALSE)","v":{"$error":"#REF!"}},{"$f":"VLOOKUP(#REF!,#REF!,7,FALSE)","v":{"$error":"#REF!"}},"08:00:00","00:00:00",{"$error":"#REF!"},{"$error":"#REF!"}]
["",null,null,null,null,null,null,null,null,null,null,null,null,null,null,null,null,null,"sábado"," ",{"$f":"VLOOKUP(#REF!,#REF!,6,FALSE)","v":{"$error":"#REF!"}},{"$f":"VLOOKUP(#REF!,#REF!,7,FALSE)","v":{"$error":"#REF!"}},"08:00:00","00:00:00",{"$error":"#REF!"},{"$error":"#REF!"}]
["",null,null,null,null,null,null,null,null,null,null,null,null,null,null,null,null,null,"sábado"," ",{"$f":"VLOOKUP(#REF!,#REF!,6,FALSE)","v":{"$error":"#REF!"}},{"$f":"VLOOKUP(#REF!,#REF!,7,FALSE)","v":{"$error":"#REF!"}},"08:00:00","00:00:00",{"$error":"#REF!"},{"$error":"#REF!"}]
["",null,null,null,null,null,null,null,null,null,null,null,null,null,null,null,null,null,{"$f":"+TEXT(#REF!,\"DDDD\")","v":{"$error":"#REF!"}}," ",{"$f":"VLOOKUP(#REF!,#REF!,6,FALSE)","v":{"$error":"#REF!"}},{"$f":"VLOOKUP(#REF!,#REF!,7,FALSE)","v":{"$error":"#REF!"}},"08:00:00","00:00:00",{"$error":"#REF!"},{"$error":"#REF!"}]
["Salario mensual:",null,null,"Total",null,null,null,null,null,null,null,null,null,null,null,null,null,null,"sábado",{"$f":"IF(C28=0/1/1900,\" \",LEFT(#REF!,2))","v":" "},{"$f":"VLOOKUP(#REF!,#REF!,6,FALSE)","v":{"$error":"#REF!"}},{"$f":"VLOOKUP(#REF!,#REF!,7,FALSE)","v":{"$error":"#REF!"}},"08:00:00","00:00:00",{"$error":"#REF!"},{"$error":"#REF!"}]
["Nombre persona funcionaria interesada:",null,null,null,null,null,null,null,null,null,null,null,null,"Firma:",null," ",null,null,"sábado"," ",{"$f":"VLOOKUP(#REF!,#REF!,6,FALSE)","v":{"$error":"#REF!"}},{"$f":"VLOOKUP(#REF!,#REF!,7,FALSE)","v":{"$error":"#REF!"}},"08:00:00","00:00:00",{"$error":"#REF!"},{"$error":"#REF!"}]
["Declaro bajo juramento que los datos propocionados en este formulario son ciertos y conozco las sanciones establecidas por la normativa institucional y nacional vigentes que se refiren a las penas con que se castiga la falsedad de la información.",null,null,null,null,null,null,null,null,null,null,null,null,null,null,null,null,null,"sábado"," ",{"$f":"VLOOKUP(#REF!,#REF!,6,FALSE)","v":{"$error":"#REF!"}},{"$f":"VLOOKUP(#REF!,#REF!,7,FALSE)","v":{"$error":"#REF!"}},"08:00:00","00:00:00",{"$error":"#REF!"},{"$error":"#REF!"}]
["Autorización de la jefatura y vicerrectoría Ejecutiva",null,null,null,null,null,null,null,null,null,null,null,null,null,null,null,null,null,"sábado"," ",{"$f":"VLOOKUP(#REF!,#REF!,6,FALSE)","v":{"$error":"#REF!"}},{"$f":"VLOOKUP(#REF!,#REF!,7,FALSE)","v":{"$error":"#REF!"}},"08:00:00","00:00:00",{"$error":"#REF!"},{"$error":"#REF!"}]
["Nombre Jefe Inmediato",null,null,null,null,null,"Autorización en la Vicerrectoría Ejecutiva por:",null,null,null,null,null,null,null,null,null,null,null,"sábado"," ",{"$f":"VLOOKUP(#REF!,#REF!,6,FALSE)","v":{"$error":"#REF!"}},{"$f":"VLOOKUP(#REF!,#REF!,7,FALSE)","v":{"$error":"#REF!"}},"08:00:00","00:00:00",{"$error":"#REF!"},{"$error":"#REF!"}]
[" ",null,null,null,null,null,null,null,null,null,null,null,null,null,null,null,null,null,"sábado"," ",{"$f":"VLOOKUP(#REF!,#REF!,6,FALSE)","v":{"$error":"#REF!"}},{"$f":"VLOOKUP(#REF!,#REF!,7,FALSE)","v":{"$error":"#REF!"}},"08:00:00","00:00:00",{"$error":"#REF!"},{"$error":"#REF!"}]
["N° Consecutivo de Autorización 1: ",null,null,null,"________________",null,null,null,null,null,null,null,null,null,null,null,null,null,"sábado"," ",{"$f":"VLOOKUP(#REF!,#REF!,6,FALSE)","v":{"$error":"#REF!"}},{"$f":"VLOOKUP(#REF!,#REF!,7,FALSE)","v":{"$error":"#REF!"}},"08:00:00","00:00:00",{"$error":"#REF!"},{"$error":"#REF!"}]
["Fecha:",null,null,"Firma_______________________","_________________",null,"Fecha: ",null,null,"_______________",null,null,null,"Firma:",null,"_______________",null,null,{"$f":"+TEXT(#REF!,\"DDDD\")","v":{"$error":"#REF!"}}," ",{"$f":"VLOOKUP(#REF!,#REF!,6,FALSE)","v":{"$error":"#REF!"}},{"$f":"VLOOKUP(#REF!,#REF!,7,FALSE)","v":{"$error":"#REF!"}},"08:00:00","00:00:00",{"$error":"#REF!"},{"$error":"#REF!"}]
["1 Este número es el asignado en la AUTORIZACIÓN PARA LABORAR HORAS EXTRAORDINARIAS A LA JORNDADA FUNED ORH 01.00.01"]
["Fecha aprobación 18 de diciembre de 2020",null,null,null,null,null,"Versión: 01",null,null,null,null,"Rige a partir: 01 de marzo de 2021"]
["(Acuerdo: CR-2020-1926)"]